BEGIN:VCALENDAR
VERSION:2.0
PRODID:-//203.170.87.121//NONSGML kigkonsult.se iCalcreator 2.26.9//
CALSCALE:GREGORIAN
METHOD:PUBLISH
X-WR-CALNAME:St Ives Cycling Bicycle User Group
X-WR-CALDESC:
X-FROM-URL:http://sicbug.com.au
X-WR-TIMEZONE:Australia/Sydney
BEGIN:VTIMEZONE
TZID:Australia/Sydney
X-LIC-LOCATION:Australia/Sydney
BEGIN:STANDARD
DTSTART:20210404T030000
TZOFFSETFROM:+1100
TZOFFSETTO:+1000
RDATE:20220403T030000
TZNAME:AEST
END:STANDARD
BEGIN:DAYLIGHT
DTSTART:20201004T020000
TZOFFSETFROM:+1000
TZOFFSETTO:+1100
RDATE:20211003T020000
TZNAME:AEDT
END:DAYLIGHT
END:VTIMEZONE
BEGIN:VEVENT
UID:ai1ec-1228@sicbug.com.au
DTSTAMP:20210225T085422Z
CATEGORIES:
CONTACT:Joseph Stapleton\; 0414997691
DESCRIPTION:Ride Leader: Joseph Stapleton. See Sunday Ride Details
DTSTART;TZID=Australia/Sydney:20200719T070000
DTEND;TZID=Australia/Sydney:20200719T103000
LOCATION:Carpark Opposite Pattisons Patisserie @ 237 Mona Vale Road\, St Iv
 es
SEQUENCE:0
SUMMARY:Manly Beaches (approx. 73km)
URL:http://sicbug.com.au/event/manly-beaches-approx-73km-2-2/
X-COST-TYPE:free
X-ALT-DESC;FMTTYPE=text/html:<!DOCTYPE HTML PUBLIC '-//W3C//DTD HTML 3.2//E
 N'>\\n<HTML>\\n<HEAD>\\n<TITLE></TITLE>\\n</HEAD>\\n<BODY><p>Ride Leader: 
 Joseph Stapleton. See <a href='http://sicbug.com.au/sunday-rides/'>Sunday 
 Ride Details</a></p>\n</BODY></HTML>
END:VEVENT
END:VCALENDAR
