BEGIN:VCALENDAR
VERSION:2.0
PRODID:-//203.170.87.121//NONSGML kigkonsult.se iCalcreator 2.26.9//
CALSCALE:GREGORIAN
METHOD:PUBLISH
X-WR-CALNAME:St Ives Cycling Bicycle User Group
X-WR-CALDESC:
X-FROM-URL:http://sicbug.com.au
X-WR-TIMEZONE:Australia/Sydney
BEGIN:VTIMEZONE
TZID:Australia/Sydney
X-LIC-LOCATION:Australia/Sydney
BEGIN:STANDARD
DTSTART:20210404T030000
TZOFFSETFROM:+1100
TZOFFSETTO:+1000
RDATE:20220403T030000
TZNAME:AEST
END:STANDARD
BEGIN:DAYLIGHT
DTSTART:20201004T020000
TZOFFSETFROM:+1000
TZOFFSETTO:+1100
RDATE:20211003T020000
TZNAME:AEDT
END:DAYLIGHT
END:VTIMEZONE
BEGIN:VEVENT
UID:ai1ec-1216@sicbug.com.au
DTSTAMP:20210225T085747Z
CATEGORIES:
CONTACT:Tony Swift\; 0475790878
DESCRIPTION:Ride Leader: Tony Swift. See Sunday Ride Details
DTSTART;TZID=Australia/Sydney:20200809T070000
DTEND;TZID=Australia/Sydney:20200809T103000
LOCATION:North Turramurra Shops @ 290 Bobbin Head Road\, North Turramurra
SEQUENCE:0
SUMMARY:Caroline’s Calga (Approx. 105km)
URL:http://sicbug.com.au/event/carolines-calga-approx-105km/
X-COST-TYPE:free
X-ALT-DESC;FMTTYPE=text/html:<!DOCTYPE HTML PUBLIC '-//W3C//DTD HTML 3.2//E
 N'>\\n<HTML>\\n<HEAD>\\n<TITLE></TITLE>\\n</HEAD>\\n<BODY><p>Ride Leader: 
 Tony Swift. See <a href='http://sicbug.com.au/sunday-rides/'>Sunday Ride D
 etails</a></p>\n</BODY></HTML>
END:VEVENT
END:VCALENDAR
