BEGIN:VCALENDAR
VERSION:2.0
PRODID:-//203.170.87.121//NONSGML kigkonsult.se iCalcreator 2.26.9//
CALSCALE:GREGORIAN
METHOD:PUBLISH
X-WR-CALNAME:St Ives Cycling Bicycle User Group
X-WR-CALDESC:
X-FROM-URL:http://sicbug.com.au
X-WR-TIMEZONE:Australia/Sydney
BEGIN:VTIMEZONE
TZID:Australia/Sydney
X-LIC-LOCATION:Australia/Sydney
BEGIN:STANDARD
DTSTART:20210404T030000
TZOFFSETFROM:+1100
TZOFFSETTO:+1000
RDATE:20220403T030000
TZNAME:AEST
END:STANDARD
BEGIN:DAYLIGHT
DTSTART:20201004T020000
TZOFFSETFROM:+1000
TZOFFSETTO:+1100
RDATE:20211003T020000
TZNAME:AEDT
END:DAYLIGHT
END:VTIMEZONE
BEGIN:VEVENT
UID:ai1ec-1177@sicbug.com.au
DTSTAMP:20210225T085456Z
CATEGORIES:
CONTACT:David Wright\; 0419492198
DESCRIPTION:Ride Leader: David Wright. See Saturday Ride details
DTSTART;TZID=Australia/Sydney:20200725T070000
DTEND;TZID=Australia/Sydney:20200725T100000
LOCATION:Hookham's Corner (a.k.a. The Tanks) @ Corner of Peats Ferry Road a
 nd Galston Road\, Asquith
SEQUENCE:0
SUMMARY:Hawkesbury River Bridge\, Brooklyn
URL:http://sicbug.com.au/event/saturday-ride-3-2/
X-COST-TYPE:free
X-ALT-DESC;FMTTYPE=text/html:<!DOCTYPE HTML PUBLIC '-//W3C//DTD HTML 3.2//E
 N'>\\n<HTML>\\n<HEAD>\\n<TITLE></TITLE>\\n</HEAD>\\n<BODY><p>Ride Leader: 
 David Wright. See <a href='http://sicbug.com.au/saturday-rides/'>Saturday 
 Ride details</a></p>\n</BODY></HTML>
END:VEVENT
END:VCALENDAR
