BEGIN:VCALENDAR
VERSION:2.0
PRODID:-//203.170.87.121//NONSGML kigkonsult.se iCalcreator 2.26.9//
CALSCALE:GREGORIAN
METHOD:PUBLISH
X-WR-CALNAME:St Ives Cycling Bicycle User Group
X-WR-CALDESC:
X-FROM-URL:http://sicbug.com.au
X-WR-TIMEZONE:Australia/Sydney
BEGIN:VTIMEZONE
TZID:Australia/Sydney
X-LIC-LOCATION:Australia/Sydney
BEGIN:STANDARD
DTSTART:20210404T030000
TZOFFSETFROM:+1100
TZOFFSETTO:+1000
RDATE:20220403T030000
TZNAME:AEST
END:STANDARD
BEGIN:DAYLIGHT
DTSTART:20201004T020000
TZOFFSETFROM:+1000
TZOFFSETTO:+1100
RDATE:20211003T020000
TZNAME:AEDT
END:DAYLIGHT
END:VTIMEZONE
BEGIN:VEVENT
UID:ai1ec-1176@sicbug.com.au
DTSTAMP:20210225T085525Z
CATEGORIES:
CONTACT:Anne Wilkes\; 0412254646
DESCRIPTION:<p>Ride Leader: Anne Wilkes. See <a href='http://sicbug.com.au/
 sunday-rides/'>Sunday Ride Details</a></p>
DTSTART;TZID=Australia/Sydney:20200726T070000
DTEND;TZID=Australia/Sydney:20200726T103000
LOCATION:Hookham's Corner (a.k.a. The Tanks) @ Corner Peats Ferry Road and 
 Galston Road\, Asquith
SEQUENCE:0
SUMMARY:2 Gorges – Galston & Berowra
URL:http://sicbug.com.au/event/mona-vale-approx-51km/
X-COST-TYPE:free
END:VEVENT
END:VCALENDAR
